BEGIN:VCALENDAR
VERSION:2.0
PRODID:-//秋田ひきこもりサポート情報ポータルサイト - ECPv6.15.20//NONSGML v1.0//EN
CALSCALE:GREGORIAN
METHOD:PUBLISH
X-WR-CALNAME:秋田ひきこもりサポート情報ポータルサイト
X-ORIGINAL-URL:https://ah-portal.com
X-WR-CALDESC:秋田ひきこもりサポート情報ポータルサイト のイベント
REFRESH-INTERVAL;VALUE=DURATION:PT1H
X-Robots-Tag:noindex
X-PUBLISHED-TTL:PT1H
BEGIN:VTIMEZONE
TZID:Asia/Tokyo
BEGIN:STANDARD
TZOFFSETFROM:+0900
TZOFFSETTO:+0900
TZNAME:JST
DTSTART:20250101T000000
END:STANDARD
END:VTIMEZONE
BEGIN:VEVENT
DTSTART;TZID=Asia/Tokyo:20260124T100000
DTEND;TZID=Asia/Tokyo:20260124T160000
DTSTAMP:20260420T021036
CREATED:20251002T124951Z
LAST-MODIFIED:20260117T220527Z
UID:69-1769248800-1769270400@ah-portal.com
SUMMARY:ひきこもりに関する相談会（１月）
DESCRIPTION:生きづらさを抱えていませんか。『外に出てみたい』『働きたい』『社会とつながりを持ちたい』など臨床心理士、公認心理師、社会福祉士、精神保健福祉士、産業カウンセラーなどの専門職や、民間で活動するひきこもり当事者・家族がどんな悩みでもお聴きして必要に応じて情報を提供していきます。 \n\n\n\n●日時：１月２４日（土）\n\n\n\n１０：００～１１：００１１：００～１２：００１３：００～１４：００１４：００～１５：００ \n\n\n\n●場所：センタース（秋田市役所）２階 和室２にて\n\n\n\nお申し込みは、「電話」か「申込フォーム」で・・・\n\n\n\n電話：080-9441-0021\n\n\n\n\n\n\n\n申込フォーム\n\n\n\n\n\n\n\nパンフレット
URL:https://ah-portal.com/event/%ef%bc%91%e6%9c%88%e7%9b%b8%e8%ab%87%e4%bc%9a/
LOCATION:センタース（秋田市中央市民サービスセンター ）\, 山王1丁目1-1\, 秋田市\, 010-8560
ATTACH;FMTTYPE=image/jpeg:https://ah-portal.com/wp-content/uploads/2025/10/sodankai_202601.jpg
ORGANIZER;CN="%E7%A7%8B%E7%94%B0%E3%81%B2%E3%81%8D%E3%81%93%E3%82%82%E3%82%8A%E3%83%A9%E3%83%9C":MAILTO:akita.hlabo@gmail.com
END:VEVENT
END:VCALENDAR