BEGIN:VCALENDAR
VERSION:2.0
PRODID:-//秋田ひきこもりサポート情報ポータルサイト - ECPv6.15.20//NONSGML v1.0//EN
CALSCALE:GREGORIAN
METHOD:PUBLISH
X-ORIGINAL-URL:https://ah-portal.com
X-WR-CALDESC:秋田ひきこもりサポート情報ポータルサイト のイベント
REFRESH-INTERVAL;VALUE=DURATION:PT1H
X-Robots-Tag:noindex
X-PUBLISHED-TTL:PT1H
BEGIN:VTIMEZONE
TZID:Asia/Tokyo
BEGIN:STANDARD
TZOFFSETFROM:+0900
TZOFFSETTO:+0900
TZNAME:JST
DTSTART:20250101T000000
END:STANDARD
END:VTIMEZONE
BEGIN:VEVENT
DTSTART;TZID=Asia/Tokyo:20260328T100000
DTEND;TZID=Asia/Tokyo:20260328T160000
DTSTAMP:20260420T134617
CREATED:20260308T074728Z
LAST-MODIFIED:20260309T054742Z
UID:683-1774692000-1774713600@ah-portal.com
SUMMARY:ひきこもりに関する相談会（３月）
DESCRIPTION:生きづらさを抱えていませんか。『外に出てみたい』『働きたい』『社会とつながりを持ちたい』など臨床心理士、公認心理師、社会福祉士、精神保健福祉士、産業カウンセラーなどの専門職や、民間で活動するひきこもり当事者・家族がどんな悩みでもお聴きして必要に応じて情報を提供していきます。 \n\n\n\n●日時：３月２８日（土）\n\n\n\n１０：００～１１：００１１：００～１２：００１３：００～１４：００１４：００～１５：００ \n\n\n\n●場所：センタース（秋田市役所）２階 和室３にて\n\n\n\nお申し込みは、「電話」か「申込フォーム」で・・・\n\n\n\n電話：080-9441-0021\n\n\n\n\n\n\n\n申込フォーム\n\n\n\n\n\n\n\nパンフレット
URL:https://ah-portal.com/event/20260308/
LOCATION:センタース（秋田市中央市民サービスセンター ）\, 山王1丁目1-1\, 秋田市\, 010-8560
ATTACH;FMTTYPE=image/jpeg:https://ah-portal.com/wp-content/uploads/2025/10/sodankai_202602.jpg
END:VEVENT
END:VCALENDAR