BEGIN:VCALENDAR
VERSION:2.0
PRODID:-//秋田ひきこもりサポート情報ポータルサイト - ECPv6.15.20//NONSGML v1.0//EN
CALSCALE:GREGORIAN
METHOD:PUBLISH
X-WR-CALNAME:秋田ひきこもりサポート情報ポータルサイト
X-ORIGINAL-URL:https://ah-portal.com
X-WR-CALDESC:秋田ひきこもりサポート情報ポータルサイト のイベント
REFRESH-INTERVAL;VALUE=DURATION:PT1H
X-Robots-Tag:noindex
X-PUBLISHED-TTL:PT1H
BEGIN:VTIMEZONE
TZID:Asia/Tokyo
BEGIN:STANDARD
TZOFFSETFROM:+0900
TZOFFSETTO:+0900
TZNAME:JST
DTSTART:20240101T000000
END:STANDARD
END:VTIMEZONE
BEGIN:VEVENT
DTSTART;TZID=Asia/Tokyo:20260228T100000
DTEND;TZID=Asia/Tokyo:20260228T160000
DTSTAMP:20260420T050059
CREATED:20260117T060433Z
LAST-MODIFIED:20260118T233321Z
UID:508-1772272800-1772294400@ah-portal.com
SUMMARY:ひきこもりに関する相談会（２月）
DESCRIPTION:生きづらさを抱えていませんか。『外に出てみたい』『働きたい』『社会とつながりを持ちたい』など臨床心理士、公認心理師、社会福祉士、精神保健福祉士、産業カウンセラーなどの専門職や、民間で活動するひきこもり当事者・家族がどんな悩みでもお聴きして必要に応じて情報を提供していきます。 \n\n\n\n●日時：２月２８日（土）\n\n\n\n１０：００～１１：００１１：００～１２：００１３：００～１４：００１４：００～１５：００ \n\n\n\n●場所：センタース（秋田市役所）２階 和室３にて\n\n\n\nお申し込みは、「電話」か「申込フォーム」で・・・\n\n\n\n電話：080-9441-0021\n\n\n\n\n\n\n\n申込フォーム\n\n\n\n\n\n\n\nパンフレット
URL:https://ah-portal.com/event/%e3%81%b2%e3%81%8d%e3%81%93%e3%82%82%e3%82%8a%e3%81%ab%e9%96%a2%e3%81%99%e3%82%8b%e7%9b%b8%e8%ab%87%e4%bc%9a%ef%bc%88%ef%bc%92%e6%9c%88%ef%bc%89/
LOCATION:センタース（秋田市中央市民サービスセンター ）\, 山王1丁目1-1\, 秋田市\, 010-8560
ATTACH;FMTTYPE=image/jpeg:https://ah-portal.com/wp-content/uploads/2025/10/sodankai_202602.jpg
END:VEVENT
BEGIN:VEVENT
DTSTART;TZID=Asia/Tokyo:20260124T100000
DTEND;TZID=Asia/Tokyo:20260124T160000
DTSTAMP:20260420T050059
CREATED:20251002T124951Z
LAST-MODIFIED:20260117T220527Z
UID:69-1769248800-1769270400@ah-portal.com
SUMMARY:ひきこもりに関する相談会（１月）
DESCRIPTION:生きづらさを抱えていませんか。『外に出てみたい』『働きたい』『社会とつながりを持ちたい』など臨床心理士、公認心理師、社会福祉士、精神保健福祉士、産業カウンセラーなどの専門職や、民間で活動するひきこもり当事者・家族がどんな悩みでもお聴きして必要に応じて情報を提供していきます。 \n\n\n\n●日時：１月２４日（土）\n\n\n\n１０：００～１１：００１１：００～１２：００１３：００～１４：００１４：００～１５：００ \n\n\n\n●場所：センタース（秋田市役所）２階 和室２にて\n\n\n\nお申し込みは、「電話」か「申込フォーム」で・・・\n\n\n\n電話：080-9441-0021\n\n\n\n\n\n\n\n申込フォーム\n\n\n\n\n\n\n\nパンフレット
URL:https://ah-portal.com/event/%ef%bc%91%e6%9c%88%e7%9b%b8%e8%ab%87%e4%bc%9a/
LOCATION:センタース（秋田市中央市民サービスセンター ）\, 山王1丁目1-1\, 秋田市\, 010-8560
ATTACH;FMTTYPE=image/jpeg:https://ah-portal.com/wp-content/uploads/2025/10/sodankai_202601.jpg
ORGANIZER;CN="%E7%A7%8B%E7%94%B0%E3%81%B2%E3%81%8D%E3%81%93%E3%82%82%E3%82%8A%E3%83%A9%E3%83%9C":MAILTO:akita.hlabo@gmail.com
END:VEVENT
BEGIN:VEVENT
DTSTART;TZID=Asia/Tokyo:20251214T130000
DTEND;TZID=Asia/Tokyo:20251214T163000
DTSTAMP:20260420T050059
CREATED:20250930T232703Z
LAST-MODIFIED:20260117T060812Z
UID:203-1765717200-1765729800@ah-portal.com
SUMMARY:秋田ひきこもり県民フォーラム
DESCRIPTION:秋田ひきこもりラボが主催する県民フォーラムが、2025年12月13日（土）に開催されます。本フォーラムは、ひきこもり支援を通じて地域社会の在り方を見つめ直し、当事者・企業・行政が垣根を越えて語り合う場として企画されました。入場は無料で、どなたでもご参加いただけます。ご家族やご友人とお誘い合わせのうえ、ぜひご来場ください。 第1部では、藤里町社会福祉協議会会長・菊池まゆみ氏による基調講演が行われます。菊池氏は、藤里町での実践的な地域福祉活動を通じて「藤里方式」と呼ばれる独自の支援モデルを築き、全国的な注目を集めてきました。その取り組みはNHKの各番組でも紹介され、地域福祉の可能性を広く伝えています。講演では、ひきこもり支援を軸にしたまちづくりの実例と、福祉の現場から見える社会の課題と希望について語られます。 第2部では、「本音で語ろう！当事者の思い 企業の思い」と題したパネルディスカッションが行われます。登壇者には、企業経営者や従業員、行政担当者、そして当事者の声を届ける方々が集い、それぞれの立場から率直な意見を交わします。コーディネーターは秋田ひきこもりラボ理事長・船木保美氏が務め、対話を通じて地域の支え合いのかたちを探ります。 このフォーラムは、ひきこもりという社会的課題に対して、地域全体で向き合い、理解を深めるための貴重な機会です。支援の現場に関心のある方はもちろん、地域づくりや福祉に携わる方々にもおすすめの内容となっています。
URL:https://ah-portal.com/event/%e7%a7%8b%e7%94%b0%e3%81%b2%e3%81%8d%e3%81%93%e3%82%82%e3%82%8a%e7%9c%8c%e6%b0%91%e3%83%95%e3%82%a9%e3%83%bc%e3%83%a9%e3%83%a0/
LOCATION:遊学舎 研修室\, 上北手荒巻堺切２４−２\, 秋田市\, 秋田県\, 010-1403\, Japan
ATTACH;FMTTYPE=image/jpeg:https://ah-portal.com/wp-content/uploads/2025/10/2025_forum.jpg
END:VEVENT
END:VCALENDAR